BEGIN:VCALENDAR
VERSION:2.0
PRODID:-//Lust - ECPv6.15.20//NONSGML v1.0//EN
CALSCALE:GREGORIAN
METHOD:PUBLISH
X-WR-CALNAME:Lust
X-ORIGINAL-URL:https://www.lustclubs.com
X-WR-CALDESC:Events for Lust
REFRESH-INTERVAL;VALUE=DURATION:PT1H
X-Robots-Tag:noindex
X-PUBLISHED-TTL:PT1H
BEGIN:VTIMEZONE
TZID:America/New_York
BEGIN:DAYLIGHT
TZOFFSETFROM:-0500
TZOFFSETTO:-0400
TZNAME:EDT
DTSTART:20240310T070000
END:DAYLIGHT
BEGIN:STANDARD
TZOFFSETFROM:-0400
TZOFFSETTO:-0500
TZNAME:EST
DTSTART:20241103T060000
END:STANDARD
BEGIN:DAYLIGHT
TZOFFSETFROM:-0500
TZOFFSETTO:-0400
TZNAME:EDT
DTSTART:20250309T070000
END:DAYLIGHT
BEGIN:STANDARD
TZOFFSETFROM:-0400
TZOFFSETTO:-0500
TZNAME:EST
DTSTART:20251102T060000
END:STANDARD
BEGIN:DAYLIGHT
TZOFFSETFROM:-0500
TZOFFSETTO:-0400
TZNAME:EDT
DTSTART:20260308T070000
END:DAYLIGHT
BEGIN:STANDARD
TZOFFSETFROM:-0400
TZOFFSETTO:-0500
TZNAME:EST
DTSTART:20261101T060000
END:STANDARD
END:VTIMEZONE
BEGIN:VEVENT
DTSTART;VALUE=DATE:20250607
DTEND;VALUE=DATE:20250608
DTSTAMP:20260426T000550
CREATED:20250529T164347Z
LAST-MODIFIED:20250529T164347Z
UID:10000332-1749254400-1749340799@www.lustclubs.com
SUMMARY:UFC 316
DESCRIPTION:🔥 UFC 316 LIVE at Lust Gentlemen’s Club! 🔥\nSaturday\, June 7th – DON’T MISS IT!\n\nBantamweight Championship Merab Dvalishvili (c) vs. Sean O’Malley – A highly anticipated rematch for the bantamweight title.\n\nWomen’s Bantamweight Championship Julianna Peña (c) vs. Kayla Harrison – Harrison challenges Peña for the women’s bantamweight crown.\n\nMiddleweight Bout Kelvin Gastelum vs. Joe Pyfer – A clash between seasoned contender Gastelum and rising star Pyfer.\n\nBantamweight Bout Mario Bautista vs. Patchy Mix – Mix steps in to replace Marlon Vera in this exciting bantamweight matchup.\n\nWelterweight Bout Kevin Holland vs. Vicente Luque – A showdown between two dynamic welterweights
URL:https://www.lustclubs.com/event/ufc-316/
CATEGORIES:Martinsburg,Myrtle Beach
ATTACH;FMTTYPE=image/png:https://www.lustclubs.com/wp-content/uploads/2025/05/0.png
END:VEVENT
BEGIN:VEVENT
DTSTART;VALUE=DATE:20250621
DTEND;VALUE=DATE:20250622
DTSTAMP:20260426T000550
CREATED:20250520T151909Z
LAST-MODIFIED:20250520T151909Z
UID:10000331-1750464000-1750550399@www.lustclubs.com
SUMMARY:2 Live Crew
DESCRIPTION:🚨 HIP HOP LEGENDS IN THE BUILDING! 🚨 \nThis Saturday\, June 21st\, get ready to Pop That 🍑 and Shake What Ya Mama Gave Ya — because the one and only 2 Live Crew is takin’ over Lust Gentlemen’s Club! 🎤🔥 \n👑 The OGs of wild beats and uncensored heat are bringin’ the party you won’t tell your mom about 😈\n💃 Legendary vibes. Iconic tracks. Maximum Twerkage. \n📍 Lust Gentlemen’s Club\n🗓️ Saturday\, June 21st \nTag your crew. Tell your girl. Or don’t. 👀
URL:https://www.lustclubs.com/event/2-live-crew-2/
CATEGORIES:Martinsburg
ATTACH;FMTTYPE=image/png:https://www.lustclubs.com/wp-content/uploads/2025/05/1080x1350.png
END:VEVENT
END:VCALENDAR