BEGIN:VCALENDAR
VERSION:2.0
PRODID:-//Lust - ECPv6.15.20//NONSGML v1.0//EN
CALSCALE:GREGORIAN
METHOD:PUBLISH
X-WR-CALNAME:Lust
X-ORIGINAL-URL:https://www.lustclubs.com
X-WR-CALDESC:Events for Lust
REFRESH-INTERVAL;VALUE=DURATION:PT1H
X-Robots-Tag:noindex
X-PUBLISHED-TTL:PT1H
BEGIN:VTIMEZONE
TZID:America/New_York
BEGIN:DAYLIGHT
TZOFFSETFROM:-0500
TZOFFSETTO:-0400
TZNAME:EDT
DTSTART:20230312T070000
END:DAYLIGHT
BEGIN:STANDARD
TZOFFSETFROM:-0400
TZOFFSETTO:-0500
TZNAME:EST
DTSTART:20231105T060000
END:STANDARD
BEGIN:DAYLIGHT
TZOFFSETFROM:-0500
TZOFFSETTO:-0400
TZNAME:EDT
DTSTART:20240310T070000
END:DAYLIGHT
BEGIN:STANDARD
TZOFFSETFROM:-0400
TZOFFSETTO:-0500
TZNAME:EST
DTSTART:20241103T060000
END:STANDARD
BEGIN:DAYLIGHT
TZOFFSETFROM:-0500
TZOFFSETTO:-0400
TZNAME:EDT
DTSTART:20250309T070000
END:DAYLIGHT
BEGIN:STANDARD
TZOFFSETFROM:-0400
TZOFFSETTO:-0500
TZNAME:EST
DTSTART:20251102T060000
END:STANDARD
END:VTIMEZONE
BEGIN:VEVENT
DTSTART;VALUE=DATE:20240413
DTEND;VALUE=DATE:20240414
DTSTAMP:20260421T151726
CREATED:20240408T131829Z
LAST-MODIFIED:20240408T131829Z
UID:10000288-1712966400-1713052799@www.lustclubs.com
SUMMARY:UFC 300 - Myrtle Beach
DESCRIPTION:UFC 300 – here at Lust!  \nSaturday\, April 13th – join us and the lovely Lust entertainers for a legendary night of fights\, drink specials\, and the hottest girls in town!
URL:https://www.lustclubs.com/event/ufc-300-myrtle-beach/
CATEGORIES:Myrtle Beach
ATTACH;FMTTYPE=image/png:https://www.lustclubs.com/wp-content/uploads/2024/04/202404-UFC-300-Instagram.png
END:VEVENT
BEGIN:VEVENT
DTSTART;VALUE=DATE:20240413
DTEND;VALUE=DATE:20240414
DTSTAMP:20260421T151726
CREATED:20240408T131921Z
LAST-MODIFIED:20240408T131921Z
UID:10000289-1712966400-1713052799@www.lustclubs.com
SUMMARY:UFC 300 - Martinsburg
DESCRIPTION:UFC 300 – here at Lust!  \nSaturday\, April 13th – join us and the lovely Lust entertainers for a legendary night of fights\, drink specials\, and the hottest girls in Martinsburg!
URL:https://www.lustclubs.com/event/ufc-300-martinsburg/
CATEGORIES:Martinsburg
ATTACH;FMTTYPE=image/png:https://www.lustclubs.com/wp-content/uploads/2024/04/202404-UFC-300-Instagram.png
END:VEVENT
END:VCALENDAR